BEGIN:VCALENDAR
VERSION:2.0
PRODID:icalendar-ruby
CALSCALE:GREGORIAN
METHOD:PUBLISH
BEGIN:VEVENT
DTSTAMP:20260420T113627Z
UID:https://www.jnguyenproperty.com.au/property?property_id=1762386
DTSTART:20260523T110000
DTEND:20260523T113000
CLASS:PUBLIC
CREATED:20260420T131743
DESCRIPTION: 
LAST-MODIFIED:20260420T181809
LOCATION:32 Gregorace Place\, BONNYRIGG NSW 2177\, Australia
SUMMARY:32 Gregorace Place\,  Auction
URL;VALUE=URI:https://www.jnguyenproperty.com.au/property?property_id=17623
 86
END:VEVENT
END:VCALENDAR
